BEGIN:VCALENDAR
VERSION:2.0
PRODID:-//Squarespace Inc/Squarespace 6//v6//EN
BEGIN:VEVENT
UID:5c7986724192025cb2e4455b@squarespace.com
DTSTAMP:20190301T192407Z
DTSTART:20190607T000000Z
DTEND:20190607T000000Z
SUMMARY:BOT Elections: ELECTION DAY (voting closes at midday)
END:VEVENT
END:VCALENDAR
