BEGIN:VCALENDAR
VERSION:2.0
PRODID:-//Squarespace Inc/Squarespace 6//v6//EN
BEGIN:VEVENT
UID:5c577d420d92978c05c15d31@squarespace.com
DTSTAMP:20190203T234720Z
DTSTART:20190602T120000Z
DTEND:20190603T115900Z
SUMMARY:QUEEN'S BIRTHDAY HOLIDAY
END:VEVENT
END:VCALENDAR
